BEGIN:VCALENDAR
VERSION:2.0
PRODID:-//Creditor Rights Coalition - ECPv6.4.0.1//NONSGML v1.0//EN
CALSCALE:GREGORIAN
METHOD:PUBLISH
X-WR-CALNAME:Creditor Rights Coalition
X-ORIGINAL-URL:https://creditorcoalition.org
X-WR-CALDESC:Events for Creditor Rights Coalition
REFRESH-INTERVAL;VALUE=DURATION:PT1H
X-Robots-Tag:noindex
X-PUBLISHED-TTL:PT1H
BEGIN:VTIMEZONE
TZID:America/New_York
BEGIN:DAYLIGHT
TZOFFSETFROM:-0500
TZOFFSETTO:-0400
TZNAME:EDT
DTSTART:20260308T070000
END:DAYLIGHT
BEGIN:STANDARD
TZOFFSETFROM:-0400
TZOFFSETTO:-0500
TZNAME:EST
DTSTART:20261101T060000
END:STANDARD
END:VTIMEZONE
BEGIN:VEVENT
DTSTART;TZID=America/New_York:20260112T100000
DTEND;TZID=America/New_York:20260112T100000
DTSTAMP:20260423T075017
CREATED:20260111T180328Z
LAST-MODIFIED:20260111T180328Z
UID:5767-1768212000-1768212000@creditorcoalition.org
SUMMARY:Morningstar Webinar: Private Credit Trends
DESCRIPTION:Join us for a webinar on Monday\, January 12 at 10:00 a.m. EST for a discussion focused on Morningstar DBRS’ 2026 global private credit outlook including credit metric trends\, the impact of global trade policies\, and other key market factors.
URL:https://creditorcoalition.org/event/morningstar-webinar-private-credit-trends/
END:VEVENT
BEGIN:VEVENT
DTSTART;TZID=America/New_York:20260113T100000
DTEND;TZID=America/New_York:20260113T100000
DTSTAMP:20260423T075017
CREATED:20260104T030605Z
LAST-MODIFIED:20260104T030605Z
UID:5757-1768298400-1768298400@creditorcoalition.org
SUMMARY:Cooperation Agreements & Antitrust: The Next Major Battle?
DESCRIPTION:Join us as our panel of experts unpacks one of the most pressing issues for investors and market participants heading into 2026: antitrust scrutiny of cooperation agreements among creditors of distressed companies.
URL:https://creditorcoalition.org/event/cooperation-agreements-antitrust-the-next-major-battle/
END:VEVENT
BEGIN:VEVENT
DTSTART;TZID=America/New_York:20260114T100000
DTEND;TZID=America/New_York:20260114T100000
DTSTAMP:20260423T075017
CREATED:20260111T180505Z
LAST-MODIFIED:20260111T180505Z
UID:5769-1768384800-1768384800@creditorcoalition.org
SUMMARY:CreditSights Webinar: EMEA Levfin Outlook 2026
DESCRIPTION:Join us as our panel of experts examines the year ahead for European leveraged finance markets. With 2026 underway\, market participants are navigating a dynamic landscape shaped by evolving covenant structures\, shifting spread environments\, and heightened scrutiny of liability management exercises.
URL:https://creditorcoalition.org/event/creditsights-webinar-emea-levfin-outlook-2026/
END:VEVENT
BEGIN:VEVENT
DTSTART;TZID=America/New_York:20260120T100000
DTEND;TZID=America/New_York:20260120T224500
DTSTAMP:20260423T075017
CREATED:20260118T045224Z
LAST-MODIFIED:20260118T045224Z
UID:5789-1768903200-1768949100@creditorcoalition.org
SUMMARY:Octus Webinar: 2026 Distressed Crystal Ball
DESCRIPTION:Join Octus on Tuesday\, Jan. 20\, at 10 a.m. ET for a discussion looking at what will make news in liability management and restructuring in 2026.
URL:https://creditorcoalition.org/event/octus-webinar-2026-distressed-crystal-ball/
END:VEVENT
BEGIN:VEVENT
DTSTART;VALUE=DATE:20260121
DTEND;VALUE=DATE:20260122
DTSTAMP:20260423T075017
CREATED:20260111T180739Z
LAST-MODIFIED:20260111T180806Z
UID:5771-1768953600-1769039999@creditorcoalition.org
SUMMARY:AIRA & NYIC Luncheon: Bankruptcy & Fraud
DESCRIPTION:
URL:https://creditorcoalition.org/event/aira-nyic-luncheon-bankruptcy-fraud/
END:VEVENT
BEGIN:VEVENT
DTSTART;VALUE=DATE:20260121
DTEND;VALUE=DATE:20260122
DTSTAMP:20260423T075017
CREATED:20260118T045443Z
LAST-MODIFIED:20260118T045443Z
UID:5791-1768953600-1769039999@creditorcoalition.org
SUMMARY:Akin Gump Webinar: Venezuela and the US: Policy Shifts\, Trade\, Sanctions\, and Business Impact
DESCRIPTION:
URL:https://creditorcoalition.org/event/akin-gump-webinar-venezuela-and-the-us-policy-shifts-trade-sanctions-and-business-impact/
END:VEVENT
BEGIN:VEVENT
DTSTART;TZID=America/New_York:20260129T090000
DTEND;TZID=America/New_York:20260129T100000
DTSTAMP:20260423T075017
CREATED:20260125T045621Z
LAST-MODIFIED:20260125T045621Z
UID:5815-1769677200-1769680800@creditorcoalition.org
SUMMARY:Groundbreaking Cross-Border Restructuring: Fossil's 'Stapled Exchange'
DESCRIPTION:When Fossil turned to a London court in November to restructure its bond debt it left many in the restructuring industry wondering: Why would a US company turn to London to restructure its debt when it could have simply commenced a chapter 11 in the U.S.? Join us on January 29\, at 9 a.m. ET / 2 p.m. GMT for the answers as we sit down with the Weil Gotshal lawyers who advised on the groundbreaking transaction dubbed the “stapled exchange.”
URL:https://creditorcoalition.org/event/groundbreaking-cross-border-restructuring-fossils-stapled-exchange/
END:VEVENT
BEGIN:VEVENT
DTSTART;TZID=America/New_York:20260129T123000
DTEND;TZID=America/New_York:20260129T123000
DTSTAMP:20260423T075017
CREATED:20260125T045235Z
LAST-MODIFIED:20260125T045235Z
UID:5813-1769689800-1769689800@creditorcoalition.org
SUMMARY:Credit Conditions: Key Debt Market Trends
DESCRIPTION:Join McDermott Will & Schulte partners for an in-depth webinar discussion on current financing market conditions.
URL:https://creditorcoalition.org/event/credit-conditions-key-debt-market-trends/
END:VEVENT
END:VCALENDAR