BEGIN:VCALENDAR
VERSION:2.0
PRODID:-//Creditor Rights Coalition - ECPv6.4.0.1//NONSGML v1.0//EN
CALSCALE:GREGORIAN
METHOD:PUBLISH
X-ORIGINAL-URL:https://creditorcoalition.org
X-WR-CALDESC:Events for Creditor Rights Coalition
REFRESH-INTERVAL;VALUE=DURATION:PT1H
X-Robots-Tag:noindex
X-PUBLISHED-TTL:PT1H
BEGIN:VTIMEZONE
TZID:America/New_York
BEGIN:DAYLIGHT
TZOFFSETFROM:-0500
TZOFFSETTO:-0400
TZNAME:EDT
DTSTART:20250309T070000
END:DAYLIGHT
BEGIN:STANDARD
TZOFFSETFROM:-0400
TZOFFSETTO:-0500
TZNAME:EST
DTSTART:20251102T060000
END:STANDARD
END:VTIMEZONE
BEGIN:VEVENT
DTSTART;TZID=America/New_York:20251105T083000
DTEND;TZID=America/New_York:20251105T170000
DTSTAMP:20260423T111442
CREATED:20250921T164557Z
LAST-MODIFIED:20250921T164557Z
UID:5673-1762331400-1762362000@creditorcoalition.org
SUMMARY:ABI: 2025 International North American Insolvency Symposium (New York/ Skadden)
DESCRIPTION:ABI’s International Committee is pleased to present the 2025 International North American Insolvency Symposium\, which will be held at the offices of Skadden\, Arps\, Slate\, Meagher & Flom LLP in Midtown Manhattan. Formerly known as ABI’s Cross-Border Insolvency Program\, this annual day-long conference features a unique gathering of speakers from several nations\, who will be discussing today’s most relevant cross-border cases and topics.
URL:https://creditorcoalition.org/event/abi-2025-international-north-american-insolvency-symposium-new-york-skadden/
END:VEVENT
BEGIN:VEVENT
DTSTART;TZID=America/New_York:20251106T110000
DTEND;TZID=America/New_York:20251106T110000
DTSTAMP:20260423T111442
CREATED:20251026T044255Z
LAST-MODIFIED:20251026T044255Z
UID:5700-1762426800-1762426800@creditorcoalition.org
SUMMARY:Octus: LME’d\, Now What? (Webinar)
DESCRIPTION:What happens after a company has executed a liability management exercise? Join Octus on Thursday\, November 6\, at 11 a.m. ET\, for a 45-minute webinar discussion of post-LME lender considerations. Topics discussed will include how lenders can navigate tighter post-LME debt documents should borrowers continue to struggle\, and the dynamics of cooperation and other agreements in a post-LME landscape\, among others.
URL:https://creditorcoalition.org/event/octus-lmed-now-what-webinar/
END:VEVENT
BEGIN:VEVENT
DTSTART;TZID=America/New_York:20251113T110000
DTEND;TZID=America/New_York:20251113T110000
DTSTAMP:20260423T111442
CREATED:20251108T225145Z
LAST-MODIFIED:20251108T225145Z
UID:5707-1763031600-1763031600@creditorcoalition.org
SUMMARY:Octus: Clarity in the Cap Stack: CLO performance in 2025 (Webinar)
DESCRIPTION:Join Octus on Thursday\, November 13 at 11 a.m. ET for an expert panel discussion on the CLO market. We will analyze a volatile 2025\, covering its key credit events\, shifting investor demand\, issuance trends\, and loan supply. Our panelists will then provide their expert outlook for the CLO market in 2026\, offering key insights for the year ahead.
URL:https://creditorcoalition.org/event/octus-clarity-in-the-cap-stack-clo-performance-in-2025-webinar/
END:VEVENT
BEGIN:VEVENT
DTSTART;TZID=America/New_York:20251118T130000
DTEND;TZID=America/New_York:20251118T130000
DTSTAMP:20260423T111442
CREATED:20251108T225346Z
LAST-MODIFIED:20251108T225346Z
UID:5709-1763470800-1763470800@creditorcoalition.org
SUMMARY:NCBJ: Healthcare Bankruptcies: Complex Diagnosis\, Difficult to Treat
DESCRIPTION:The panel will discuss the role of regulators in various aspects of healthcare bankruptcies\, including sales\, reorganization and liquidation; issues concerning real property leases\, including sale-leaseback structures; difficulties of valuing healthcare companies in the context of sales and reorganization; and issues arising in Chapter 7 cases of health care businesses.
URL:https://creditorcoalition.org/event/ncbj-healthcare-bankruptcies-complex-diagnosis-difficult-to-treat/
END:VEVENT
END:VCALENDAR