BEGIN:VCALENDAR
VERSION:2.0
PRODID:-//Creditor Rights Coalition - ECPv6.4.0.1//NONSGML v1.0//EN
CALSCALE:GREGORIAN
METHOD:PUBLISH
X-WR-CALNAME:Creditor Rights Coalition
X-ORIGINAL-URL:https://creditorcoalition.org
X-WR-CALDESC:Events for Creditor Rights Coalition
REFRESH-INTERVAL;VALUE=DURATION:PT1H
X-Robots-Tag:noindex
X-PUBLISHED-TTL:PT1H
BEGIN:VTIMEZONE
TZID:America/New_York
BEGIN:DAYLIGHT
TZOFFSETFROM:-0500
TZOFFSETTO:-0400
TZNAME:EDT
DTSTART:20250309T070000
END:DAYLIGHT
BEGIN:STANDARD
TZOFFSETFROM:-0400
TZOFFSETTO:-0500
TZNAME:EST
DTSTART:20251102T060000
END:STANDARD
END:VTIMEZONE
BEGIN:VEVENT
DTSTART;VALUE=DATE:20250909
DTEND;VALUE=DATE:20250910
DTSTAMP:20260423T161312
CREATED:20250824T015720Z
LAST-MODIFIED:20250824T015720Z
UID:5642-1757376000-1757462399@creditorcoalition.org
SUMMARY:Mayer Brown: Beating Bankruptcy Trustee Claims (Webinar)
DESCRIPTION:
URL:https://creditorcoalition.org/event/mayer-brown-beating-bankruptcy-trustee-claims-webinar/
END:VEVENT
BEGIN:VEVENT
DTSTART;TZID=America/New_York:20250910T110000
DTEND;TZID=America/New_York:20250910T110000
DTSTAMP:20260423T161312
CREATED:20250824T015944Z
LAST-MODIFIED:20250824T015944Z
UID:5644-1757502000-1757502000@creditorcoalition.org
SUMMARY:Paul Weiss: Transatlantic Perspective on Evolving Strategies on Navigating Distress
DESCRIPTION:
URL:https://creditorcoalition.org/event/paul-weiss-transatlantic-perspective-on-evolving-strategies-on-navigating-distress/
END:VEVENT
BEGIN:VEVENT
DTSTART;TZID=America/New_York:20250911T110000
DTEND;TZID=America/New_York:20250911T120000
DTSTAMP:20260423T161312
CREATED:20250907T040231Z
LAST-MODIFIED:20250907T040231Z
UID:5666-1757588400-1757592000@creditorcoalition.org
SUMMARY:New Event: TMA: The ABCs of LMEs (Webinar)
DESCRIPTION:This session will demystify Liability Management Exercises (LMEs)—strategic financial maneuvers that can reshape a company’s capital structure outside of bankruptcy. We’ll explore what LMEs are\, why companies pursue them\, who they impact (and how)\, and how these transactions are evolving. Attendees will leave with a clearer sense of how LMEs affect equity holders\, lenders\, and management—and what to look out for when these deals go right… or go wrong. 1.2 CEU and CPE credits are available. 1.2 CLE credits in IL are anticipated.
URL:https://creditorcoalition.org/event/new-event-tma-the-abcs-of-lmes-webinar/
END:VEVENT
BEGIN:VEVENT
DTSTART;VALUE=DATE:20250917
DTEND;VALUE=DATE:20250921
DTSTAMP:20260423T161312
CREATED:20250713T072943Z
LAST-MODIFIED:20250713T072943Z
UID:5603-1758067200-1758412799@creditorcoalition.org
SUMMARY:NCBJ Annual Meeting (Chicago)
DESCRIPTION:
URL:https://creditorcoalition.org/event/ncbj-annual-meeting-chicago/
END:VEVENT
BEGIN:VEVENT
DTSTART;TZID=America/New_York:20250923T110000
DTEND;TZID=America/New_York:20250923T120000
DTSTAMP:20260423T161312
CREATED:20250907T040107Z
LAST-MODIFIED:20250907T040107Z
UID:5664-1758625200-1758628800@creditorcoalition.org
SUMMARY:New Event: Octus European LMEs: Where are We Now?
DESCRIPTION:Over the past few years\, the European market has witnessed an uptick in liability management exercises (LMEs). Join Octus’ Chetna Mistry on Tuesday\, Sept. 23\, together with expert panelists Adam Al-Attar KC\, as well as Liz Osborne and Kai Zeng of Paul\, Weiss\, Rifkind\, Wharton & Garrison LLP\, who will analyse the landmark European LMEs executed to date\, delve into the legal questions they have generated and assess the alternatives now being deployed and considered.
URL:https://creditorcoalition.org/event/new-event-octus-european-lmes-where-are-we-now/
END:VEVENT
BEGIN:VEVENT
DTSTART;TZID=America/New_York:20250926T073000
DTEND;TZID=America/New_York:20250926T173000
DTSTAMP:20260423T161312
CREATED:20250824T020150Z
LAST-MODIFIED:20250824T020150Z
UID:5646-1758871800-1758907800@creditorcoalition.org
SUMMARY:ABI Bankruptcy Views from the Bench (Washington DC
DESCRIPTION:ABI’s Bankruptcy 2025: Views from the Bench program is a unique opportunity for bankruptcy practitioners to hear from more than 20 sitting and retired bankruptcy judges during a full day of high-quality CLE and networking opportunities. This year’s program is being held in the historic National Press Club building. Nestled in the heart of downtown Washington between the White House\, Washington Monument and Capitol Hill with easy access to Metro\, parking and hotels\, the National Press Club offers a unique setting like no other.
URL:https://creditorcoalition.org/event/abi-bankruptcy-views-from-the-bench-washington-dc/
END:VEVENT
END:VCALENDAR