BEGIN:VCALENDAR
VERSION:2.0
PRODID:-//Creditor Rights Coalition - ECPv6.4.0.1//NONSGML v1.0//EN
CALSCALE:GREGORIAN
METHOD:PUBLISH
X-ORIGINAL-URL:https://creditorcoalition.org
X-WR-CALDESC:Events for Creditor Rights Coalition
REFRESH-INTERVAL;VALUE=DURATION:PT1H
X-Robots-Tag:noindex
X-PUBLISHED-TTL:PT1H
BEGIN:VTIMEZONE
TZID:America/New_York
BEGIN:DAYLIGHT
TZOFFSETFROM:-0500
TZOFFSETTO:-0400
TZNAME:EDT
DTSTART:20250309T070000
END:DAYLIGHT
BEGIN:STANDARD
TZOFFSETFROM:-0400
TZOFFSETTO:-0500
TZNAME:EST
DTSTART:20251102T060000
END:STANDARD
END:VTIMEZONE
BEGIN:VEVENT
DTSTART;VALUE=DATE:20250603
DTEND;VALUE=DATE:20250604
DTSTAMP:20260423T124331
CREATED:20250413T060514Z
LAST-MODIFIED:20250413T060514Z
UID:5382-1748908800-1748995199@creditorcoalition.org
SUMMARY:IMN Litigation Finance Conference
DESCRIPTION:
URL:https://creditorcoalition.org/event/imn-litigation-finance-conference/
END:VEVENT
BEGIN:VEVENT
DTSTART;VALUE=DATE:20250603
DTEND;VALUE=DATE:20250604
DTSTAMP:20260423T124331
CREATED:20250413T060804Z
LAST-MODIFIED:20250413T060842Z
UID:5384-1748908800-1748995199@creditorcoalition.org
SUMMARY:Fostering the evolution of litigation finance funding
DESCRIPTION:
URL:https://creditorcoalition.org/event/fostering-the-evolution-of-litigation-finance-funding/
END:VEVENT
BEGIN:VEVENT
DTSTART;VALUE=DATE:20250610
DTEND;VALUE=DATE:20250611
DTSTAMP:20260423T124331
CREATED:20250525T082337Z
LAST-MODIFIED:20250525T082455Z
UID:5555-1749513600-1749599999@creditorcoalition.org
SUMMARY:LSTA/Sidley: Making Sense of the Loan Market in Uncertain Times
DESCRIPTION:
URL:https://creditorcoalition.org/event/lsta-sidley-making-sense-of-the-loan-market-in-uncertain-times/
END:VEVENT
BEGIN:VEVENT
DTSTART;VALUE=DATE:20250617
DTEND;VALUE=DATE:20250618
DTSTAMP:20260423T124331
CREATED:20250420T072514Z
LAST-MODIFIED:20250420T072514Z
UID:5445-1750118400-1750204799@creditorcoalition.org
SUMMARY:ABI: New York City Bankruptcy Conference
DESCRIPTION:The New York City Bankruptcy Conference\, one of ABI’s largest and most prestigious events — and one of the most significant gatherings of insolvency and restructuring professionals in the New York metro area — is the place to hear from the best and learn practical techniques and tips for meeting the challenges of today’s evolving insolvency landscape.
URL:https://creditorcoalition.org/event/abi-new-york-city-bankruptcy-conference-3/
END:VEVENT
BEGIN:VEVENT
DTSTART;TZID=America/New_York:20250624T150000
DTEND;TZID=America/New_York:20250624T150000
DTSTAMP:20260423T124331
CREATED:20250622T021717Z
LAST-MODIFIED:20250622T021743Z
UID:5585-1750777200-1750777200@creditorcoalition.org
SUMMARY:9fin: Webinar – Navigating the shifting sands of LME
DESCRIPTION:Join 9fin for a webinar on Tuesday\, June 24 at 3pm ET\, where we’ll explore the active LME litigation in 2025\, identifying key trends and provisions that could either be solidified as valid workarounds or permanently excluded from the borrower and majority lender playbook.
URL:https://creditorcoalition.org/event/9fin-webinar-navigating-the-shifting-sands-of-lme/
END:VEVENT
END:VCALENDAR