BEGIN:VCALENDAR
VERSION:2.0
PRODID:-//Creditor Rights Coalition - ECPv6.4.0.1//NONSGML v1.0//EN
CALSCALE:GREGORIAN
METHOD:PUBLISH
X-WR-CALNAME:Creditor Rights Coalition
X-ORIGINAL-URL:https://creditorcoalition.org
X-WR-CALDESC:Events for Creditor Rights Coalition
REFRESH-INTERVAL;VALUE=DURATION:PT1H
X-Robots-Tag:noindex
X-PUBLISHED-TTL:PT1H
BEGIN:VTIMEZONE
TZID:America/New_York
BEGIN:DAYLIGHT
TZOFFSETFROM:-0500
TZOFFSETTO:-0400
TZNAME:EDT
DTSTART:20240310T070000
END:DAYLIGHT
BEGIN:STANDARD
TZOFFSETFROM:-0400
TZOFFSETTO:-0500
TZNAME:EST
DTSTART:20241103T060000
END:STANDARD
END:VTIMEZONE
BEGIN:VEVENT
DTSTART;VALUE=DATE:20240610
DTEND;VALUE=DATE:20240612
DTSTAMP:20260423T105606
CREATED:20240609T164829Z
LAST-MODIFIED:20240609T164829Z
UID:4832-1717977600-1718150399@creditorcoalition.org
SUMMARY:III: Annual Conference
DESCRIPTION:
URL:https://creditorcoalition.org/event/iii-annual-conference/
END:VEVENT
BEGIN:VEVENT
DTSTART;TZID=America/New_York:20240612T130000
DTEND;TZID=America/New_York:20240612T140000
DTSTAMP:20260423T105606
CREATED:20240609T164955Z
LAST-MODIFIED:20240609T164955Z
UID:4834-1718197200-1718200800@creditorcoalition.org
SUMMARY:Norton Rose Fulbright: Litigation Funding
DESCRIPTION:
URL:https://creditorcoalition.org/event/norton-rose-fulbright-litigation-funding/
END:VEVENT
BEGIN:VEVENT
DTSTART;TZID=America/New_York:20240626T110000
DTEND;TZID=America/New_York:20240626T110000
DTSTAMP:20260423T105606
CREATED:20240623T163830Z
LAST-MODIFIED:20240623T163830Z
UID:4873-1719399600-1719399600@creditorcoalition.org
SUMMARY:TREPP: State of US Banking and CRE Trends
DESCRIPTION:
URL:https://creditorcoalition.org/event/trepp-state-of-us-banking-and-cre-trends/
END:VEVENT
BEGIN:VEVENT
DTSTART;TZID=America/New_York:20240627T130000
DTEND;TZID=America/New_York:20240627T163000
DTSTAMP:20260423T105606
CREATED:20240314T042733Z
LAST-MODIFIED:20240314T043753Z
UID:4622-1719493200-1719505800@creditorcoalition.org
SUMMARY:2024 Restructuring Symposium
DESCRIPTION:The 2024 Restructuring Symposium will bring together leading academics\, practitioners\, investors and market participants to discuss the evolving strategies of distressed investors\, the convergence and/or divergence of private credit in the distressed space\, and where the next opportunities lie. \nThe 2024 Restructuring Symposium will be held on June 27\, 2024 from 1pm to 4:30pm at the John A. Paulson Auditorium at the NYU Stern School of Business at 40 W. 4th Street.
URL:https://creditorcoalition.org/event/2024-restructuring-symposium/
END:VEVENT
END:VCALENDAR