BEGIN:VCALENDAR
VERSION:2.0
PRODID:-//Creditor Rights Coalition - ECPv6.4.0.1//NONSGML v1.0//EN
CALSCALE:GREGORIAN
METHOD:PUBLISH
X-ORIGINAL-URL:https://creditorcoalition.org
X-WR-CALDESC:Events for Creditor Rights Coalition
REFRESH-INTERVAL;VALUE=DURATION:PT1H
X-Robots-Tag:noindex
X-PUBLISHED-TTL:PT1H
BEGIN:VTIMEZONE
TZID:America/New_York
BEGIN:DAYLIGHT
TZOFFSETFROM:-0500
TZOFFSETTO:-0400
TZNAME:EDT
DTSTART:20260308T070000
END:DAYLIGHT
BEGIN:STANDARD
TZOFFSETFROM:-0400
TZOFFSETTO:-0500
TZNAME:EST
DTSTART:20261101T060000
END:STANDARD
END:VTIMEZONE
BEGIN:VEVENT
DTSTART;TZID=America/New_York:20260226T110000
DTEND;TZID=America/New_York:20260226T110000
DTSTAMP:20260423T175015
CREATED:20260215T185735Z
LAST-MODIFIED:20260215T185842Z
UID:5889-1772103600-1772103600@creditorcoalition.org
SUMMARY:Private Credit Restructuring: How Lenders and Sponsors Navigate Distress
DESCRIPTION:Join Octus on Thursday\, Feb. 26\, at 11 a.m. ET for a focused discussion on the evolving landscape of private credit restructurings from both lender and sponsor perspectives. Our panel will examine rising nonaccrual trends\, the high rate of follow-on restructurings\, and how market participants navigate largely out-of-court processes to maximize outcomes in an increasingly opaque environment.
URL:https://creditorcoalition.org/event/private-credit-restructuring-how-lenders-and-sponsors-navigate-distress/
END:VEVENT
BEGIN:VEVENT
DTSTART;TZID=America/New_York:20260302T180000
DTEND;TZID=America/New_York:20260302T200000
DTSTAMP:20260423T175015
CREATED:20260125T045941Z
LAST-MODIFIED:20260125T050007Z
UID:5819-1772474400-1772481600@creditorcoalition.org
SUMMARY:ABI: Duberstein Moot Court Reception
DESCRIPTION:Join over 400 leading bankruptcy practitioners and judges from the New York metro region and beyond for the annual Duberstein Bankruptcy Moot Court Gala and Awards Presentation.
URL:https://creditorcoalition.org/event/abi-duberstein-moot-court-reception/
END:VEVENT
BEGIN:VEVENT
DTSTART;TZID=America/New_York:20260303T173000
DTEND;TZID=America/New_York:20260303T193000
DTSTAMP:20260423T175015
CREATED:20260201T034317Z
LAST-MODIFIED:20260201T034317Z
UID:5841-1772559000-1772566200@creditorcoalition.org
SUMMARY:Navigating Corporate Governance in Today's Evolving Business World
DESCRIPTION:
URL:https://creditorcoalition.org/event/navigating-corporate-governance-in-todays-evolving-business-world/
END:VEVENT
BEGIN:VEVENT
DTSTART;TZID=America/New_York:20260305T170000
DTEND;TZID=America/New_York:20260305T200000
DTSTAMP:20260423T175015
CREATED:20260301T060945Z
LAST-MODIFIED:20260301T060945Z
UID:5916-1772730000-1772740800@creditorcoalition.org
SUMMARY:9fin: International Women’s Day Event
DESCRIPTION:On Thursday\, March 5\, 9fin invites you to an evening of professional networking and self-care for women in credit markets at Majesty’s Pleasure in New York City. Join us to connect with peers across the industry while enjoying a complimentary manicure or pedicure\, it’s on us!
URL:https://creditorcoalition.org/event/9fin-international-womens-day-event/
END:VEVENT
BEGIN:VEVENT
DTSTART;VALUE=DATE:20260313
DTEND;VALUE=DATE:20260314
DTSTAMP:20260423T175015
CREATED:20260118T050103Z
LAST-MODIFIED:20260201T034630Z
UID:5795-1773360000-1773446399@creditorcoalition.org
SUMMARY:CRC: 2026 Credit Opportunities Symposium
DESCRIPTION:The 2026 Credit Opportunities Symposium will bring together leading investors\, market participants\, practitioners\, academics and judges to discuss late cycle opportunities\, the latest restructuring playbook\, emerging asset classes and legal developments and where to find the next opportunity in the late cycle environment.
URL:https://creditorcoalition.org/event/crc-2026-credit-opportunities-symposium/
END:VEVENT
BEGIN:VEVENT
DTSTART;TZID=America/New_York:20260318T100000
DTEND;TZID=America/New_York:20260318T100000
DTSTAMP:20260423T175015
CREATED:20260301T061141Z
LAST-MODIFIED:20260301T061141Z
UID:5918-1773828000-1773828000@creditorcoalition.org
SUMMARY:Hot Topics in Bankruptcy in 1Q26
DESCRIPTION:Join us for an engaging session with bankruptcy and special situations experts\, featuring Patrick Holohan\, Mark Lightner and Ian Feng\, together with Jason Zachary Goldstein from Gibson Dunn & Crutcher and Marc Heimowitz from the Creditor Rights Coalition and Coda Advisory Group\, as they deliver expert insights into the shifting dynamics of bankruptcy litigation and restructuring.
URL:https://creditorcoalition.org/event/hot-topics-in-bankruptcy-in-1q26/
END:VEVENT
BEGIN:VEVENT
DTSTART;TZID=America/New_York:20260324T090000
DTEND;TZID=America/New_York:20260324T090000
DTSTAMP:20260423T175015
CREATED:20260301T061326Z
LAST-MODIFIED:20260301T061326Z
UID:5920-1774342800-1774342800@creditorcoalition.org
SUMMARY:9fin: Private Credit Enforcement
DESCRIPTION:9fin and Kobre & Kim invite you to a forthcoming webinar on March 24 at 9 AM ET examining what happens when restructuring is no longer viable\, and how creditors can pursue recovery through arbitration and global enforcement strategies.
URL:https://creditorcoalition.org/event/9fin-private-credit-enforcement/
END:VEVENT
BEGIN:VEVENT
DTSTART;TZID=America/New_York:20260324T140000
DTEND;TZID=America/New_York:20260324T140000
DTSTAMP:20260423T175015
CREATED:20260315T051544Z
LAST-MODIFIED:20260315T051544Z
UID:6001-1774360800-1774360800@creditorcoalition.org
SUMMARY:She knows structure: an all-women panel on SPVs and Chapter 11
DESCRIPTION:Join 9fin for a webinar on March 24th at 2 pm ET where we’ll examine the foundational question: are bankruptcy remote entities truly remote? Despite their design\, recent cases have exposed vulnerabilities in the mechanisms meant to keep SPVs insulated from a parent’s insolvency\, including challenges to independent directors\, separateness covenants\, non-petition clauses\, and the authority to file for bankruptcy.
URL:https://creditorcoalition.org/event/she-knows-structure-an-all-women-panel-on-spvs-and-chapter-11/
END:VEVENT
BEGIN:VEVENT
DTSTART;VALUE=DATE:20260422
DTEND;VALUE=DATE:20260423
DTSTAMP:20260423T175015
CREATED:20260215T190015Z
LAST-MODIFIED:20260215T190015Z
UID:5891-1776816000-1776902399@creditorcoalition.org
SUMMARY:Bankruptcy and Restructuring Primer for the C-Suite and the Board
DESCRIPTION:The panel will discuss out-of-court and in-court restructuring options available to companies in distress\, including ABCs\, receiverships\, Chapters 7 and 11\, and pre-packs\, capital availability\, duties of officers and directors in the zone of insolvency\, preference actions and fraudulent transfer issues. We will also address questions from the audience.
URL:https://creditorcoalition.org/event/bankruptcy-and-restructuring-primer-for-the-c-suite-and-the-board/
END:VEVENT
BEGIN:VEVENT
DTSTART;TZID=America/New_York:20260423T110000
DTEND;TZID=America/New_York:20260423T110000
DTSTAMP:20260423T175015
CREATED:20260329T034323Z
LAST-MODIFIED:20260329T034323Z
UID:6015-1776942000-1776942000@creditorcoalition.org
SUMMARY:Octus: Inside Credit Investors Use of AI
DESCRIPTION:Credit professionals are already using AI to reshape how they research\, analyze\, and act. But with dozens of tools\, mounting compliance pressure\, and no clear playbook\, most firms are still experimenting to achieve measurable ROI. Join us on Thursday\, April 23\, at 11 a.m. ET as we bring together a panel of practitioners and AI experts to cut through the complexity and share what is actually delivering results in the credit space.
URL:https://creditorcoalition.org/event/octus-inside-credit-investors-use-of-ai/
END:VEVENT
BEGIN:VEVENT
DTSTART;TZID=America/New_York:20260423T153000
DTEND;TZID=America/New_York:20260423T180000
DTSTAMP:20260423T175015
CREATED:20260201T034503Z
LAST-MODIFIED:20260201T034503Z
UID:5843-1776958200-1776967200@creditorcoalition.org
SUMMARY:EMTA Forum: 2026 EM Corporate Bond Outlook in Boston
DESCRIPTION:
URL:https://creditorcoalition.org/event/emta-forum-2026-em-corporate-bond-outlook-in-boston/
END:VEVENT
BEGIN:VEVENT
DTSTART;TZID=America/New_York:20260430T130000
DTEND;TZID=America/New_York:20260430T141500
DTSTAMP:20260423T175015
CREATED:20260419T175652Z
LAST-MODIFIED:20260419T175652Z
UID:6031-1777554000-1777558500@creditorcoalition.org
SUMMARY:ABI: Structure and Implications of Liability-Management Exercises
DESCRIPTION:Liability management exercises (LMEs) have become an increasingly prominent tool for financially distressed companies seeking to raise new capital\, refinance existing obligations\, and restructure debt outside of bankruptcy. From uptiers and drop-downs to double-dips and pari-plus transactions\, courts are now confronting the enforceability of these transactions and defining their limits. This panel will examine the structural mechanics of LMEs\, survey the evolving litigation landscape\, and consider the broader implications for borrowers\, lenders and the restructuring market.
URL:https://creditorcoalition.org/event/abi-structure-and-implications-of-liability-management-exercises/
END:VEVENT
BEGIN:VEVENT
DTSTART;VALUE=DATE:20260504
DTEND;VALUE=DATE:20260507
DTSTAMP:20260423T175015
CREATED:20260301T061602Z
LAST-MODIFIED:20260301T061602Z
UID:5923-1777852800-1778111999@creditorcoalition.org
SUMMARY:Valcon
DESCRIPTION:
URL:https://creditorcoalition.org/event/valcon/
END:VEVENT
BEGIN:VEVENT
DTSTART;VALUE=DATE:20260520
DTEND;VALUE=DATE:20260522
DTSTAMP:20260423T175015
CREATED:20260412T051603Z
LAST-MODIFIED:20260412T051603Z
UID:6026-1779235200-1779407999@creditorcoalition.org
SUMMARY:ABI: New York City Bankruptcy Conference
DESCRIPTION:The New York City Bankruptcy Conference\, one of ABI’s largest and most prestigious events — and one of the most significant gatherings of insolvency and restructuring professionals in the New York metro area — is the place to hear from the best and learn practical techniques and tips for meeting the challenges of today’s evolving insolvency landscape.
URL:https://creditorcoalition.org/event/abi-new-york-city-bankruptcy-conference-4/
END:VEVENT
END:VCALENDAR