BEGIN:VCALENDAR
VERSION:2.0
PRODID:-//Creditor Rights Coalition - ECPv6.4.0.1//NONSGML v1.0//EN
CALSCALE:GREGORIAN
METHOD:PUBLISH
X-WR-CALNAME:Creditor Rights Coalition
X-ORIGINAL-URL:https://creditorcoalition.org
X-WR-CALDESC:Events for Creditor Rights Coalition
REFRESH-INTERVAL;VALUE=DURATION:PT1H
X-Robots-Tag:noindex
X-PUBLISHED-TTL:PT1H
BEGIN:VTIMEZONE
TZID:America/New_York
BEGIN:DAYLIGHT
TZOFFSETFROM:-0500
TZOFFSETTO:-0400
TZNAME:EDT
DTSTART:20260308T070000
END:DAYLIGHT
BEGIN:STANDARD
TZOFFSETFROM:-0400
TZOFFSETTO:-0500
TZNAME:EST
DTSTART:20261101T060000
END:STANDARD
END:VTIMEZONE
BEGIN:VEVENT
DTSTART;TZID=America/New_York:20260114T100000
DTEND;TZID=America/New_York:20260114T100000
DTSTAMP:20260423T093209
CREATED:20260111T180505Z
LAST-MODIFIED:20260111T180505Z
UID:5769-1768384800-1768384800@creditorcoalition.org
SUMMARY:CreditSights Webinar: EMEA Levfin Outlook 2026
DESCRIPTION:Join us as our panel of experts examines the year ahead for European leveraged finance markets. With 2026 underway\, market participants are navigating a dynamic landscape shaped by evolving covenant structures\, shifting spread environments\, and heightened scrutiny of liability management exercises.
URL:https://creditorcoalition.org/event/creditsights-webinar-emea-levfin-outlook-2026/
END:VEVENT
END:VCALENDAR