BEGIN:VCALENDAR
VERSION:2.0
PRODID:-//Creditor Rights Coalition - ECPv6.4.0.1//NONSGML v1.0//EN
CALSCALE:GREGORIAN
METHOD:PUBLISH
X-ORIGINAL-URL:https://creditorcoalition.org
X-WR-CALDESC:Events for Creditor Rights Coalition
REFRESH-INTERVAL;VALUE=DURATION:PT1H
X-Robots-Tag:noindex
X-PUBLISHED-TTL:PT1H
BEGIN:VTIMEZONE
TZID:America/New_York
BEGIN:DAYLIGHT
TZOFFSETFROM:-0500
TZOFFSETTO:-0400
TZNAME:EDT
DTSTART:20250309T070000
END:DAYLIGHT
BEGIN:STANDARD
TZOFFSETFROM:-0400
TZOFFSETTO:-0500
TZNAME:EST
DTSTART:20251102T060000
END:STANDARD
END:VTIMEZONE
BEGIN:VEVENT
DTSTART;TZID=America/New_York:20251211T140000
DTEND;TZID=America/New_York:20251211T140000
DTSTAMP:20260423T111443
CREATED:20251207T090811Z
LAST-MODIFIED:20251207T090811Z
UID:5736-1765461600-1765461600@creditorcoalition.org
SUMMARY:Free fallin': Chapter 11 trends that defined 2025 and what's next
DESCRIPTION:From free falls to strategic restructurings\, 2025 saw companies hit the bankruptcy courts hard—testing new structures\, pushing venue boundaries\, and reshaping what a “successful” Chapter 11 looks like. As we head into 2026\, the playbook is evolving fast. Join 9fin for a webinar on Dec. 11 at 2 p.m. ET to decode what worked\, what backfired\, and what you need to know before the next wave of filings hits your desk.
URL:https://creditorcoalition.org/event/free-fallin-chapter-11-trends-that-defined-2025-and-whats-next/
END:VEVENT
END:VCALENDAR