BEGIN:VCALENDAR
VERSION:2.0
PRODID:-//Creditor Rights Coalition - ECPv6.4.0.1//NONSGML v1.0//EN
CALSCALE:GREGORIAN
METHOD:PUBLISH
X-WR-CALNAME:Creditor Rights Coalition
X-ORIGINAL-URL:https://creditorcoalition.org
X-WR-CALDESC:Events for Creditor Rights Coalition
REFRESH-INTERVAL;VALUE=DURATION:PT1H
X-Robots-Tag:noindex
X-PUBLISHED-TTL:PT1H
BEGIN:VTIMEZONE
TZID:America/New_York
BEGIN:DAYLIGHT
TZOFFSETFROM:-0500
TZOFFSETTO:-0400
TZNAME:EDT
DTSTART:20250309T070000
END:DAYLIGHT
BEGIN:STANDARD
TZOFFSETFROM:-0400
TZOFFSETTO:-0500
TZNAME:EST
DTSTART:20251102T060000
END:STANDARD
END:VTIMEZONE
BEGIN:VEVENT
DTSTART;TZID=America/New_York:20251209T100000
DTEND;TZID=America/New_York:20251209T100000
DTSTAMP:20260423T111355
CREATED:20251207T090702Z
LAST-MODIFIED:20251207T090702Z
UID:5734-1765274400-1765274400@creditorcoalition.org
SUMMARY:The art of the LME: defining trends in 2025\, and looking ahead to what’s next
DESCRIPTION:Liability management exercises (LMEs) dominated the leveraged finance landscape in 2025\, reshaping creditor dynamics and testing legal boundaries. As 2025 comes to an end\, what have we seen play out in liability management transactions\, what’s worked\, and what’s backfired? And where does this leave the distressed space in 2026?  Join 9fin for a webinar on December 9\, 10am ET\, to find answers to these questions and learn all you need to know before the next wave of deals hits your desk.
URL:https://creditorcoalition.org/event/the-art-of-the-lme-defining-trends-in-2025-and-looking-ahead-to-whats-next/
END:VEVENT
END:VCALENDAR