BEGIN:VCALENDAR
VERSION:2.0
PRODID:-//Creditor Rights Coalition - ECPv6.4.0.1//NONSGML v1.0//EN
CALSCALE:GREGORIAN
METHOD:PUBLISH
X-WR-CALNAME:Creditor Rights Coalition
X-ORIGINAL-URL:https://creditorcoalition.org
X-WR-CALDESC:Events for Creditor Rights Coalition
REFRESH-INTERVAL;VALUE=DURATION:PT1H
X-Robots-Tag:noindex
X-PUBLISHED-TTL:PT1H
BEGIN:VTIMEZONE
TZID:America/New_York
BEGIN:DAYLIGHT
TZOFFSETFROM:-0500
TZOFFSETTO:-0400
TZNAME:EDT
DTSTART:20250309T070000
END:DAYLIGHT
BEGIN:STANDARD
TZOFFSETFROM:-0400
TZOFFSETTO:-0500
TZNAME:EST
DTSTART:20251102T060000
END:STANDARD
END:VTIMEZONE
BEGIN:VEVENT
DTSTART;TZID=America/New_York:20251105T083000
DTEND;TZID=America/New_York:20251105T170000
DTSTAMP:20260423T124902
CREATED:20250921T164557Z
LAST-MODIFIED:20250921T164557Z
UID:5673-1762331400-1762362000@creditorcoalition.org
SUMMARY:ABI: 2025 International North American Insolvency Symposium (New York/ Skadden)
DESCRIPTION:ABI’s International Committee is pleased to present the 2025 International North American Insolvency Symposium\, which will be held at the offices of Skadden\, Arps\, Slate\, Meagher & Flom LLP in Midtown Manhattan. Formerly known as ABI’s Cross-Border Insolvency Program\, this annual day-long conference features a unique gathering of speakers from several nations\, who will be discussing today’s most relevant cross-border cases and topics.
URL:https://creditorcoalition.org/event/abi-2025-international-north-american-insolvency-symposium-new-york-skadden/
END:VEVENT
END:VCALENDAR