BEGIN:VCALENDAR
VERSION:2.0
PRODID:-//Creditor Rights Coalition - ECPv6.4.0.1//NONSGML v1.0//EN
CALSCALE:GREGORIAN
METHOD:PUBLISH
X-WR-CALNAME:Creditor Rights Coalition
X-ORIGINAL-URL:https://creditorcoalition.org
X-WR-CALDESC:Events for Creditor Rights Coalition
REFRESH-INTERVAL;VALUE=DURATION:PT1H
X-Robots-Tag:noindex
X-PUBLISHED-TTL:PT1H
BEGIN:VTIMEZONE
TZID:America/New_York
BEGIN:DAYLIGHT
TZOFFSETFROM:-0500
TZOFFSETTO:-0400
TZNAME:EDT
DTSTART:20250309T070000
END:DAYLIGHT
BEGIN:STANDARD
TZOFFSETFROM:-0400
TZOFFSETTO:-0500
TZNAME:EST
DTSTART:20251102T060000
END:STANDARD
END:VTIMEZONE
BEGIN:VEVENT
DTSTART;VALUE=DATE:20251023
DTEND;VALUE=DATE:20251024
DTSTAMP:20260423T161307
CREATED:20250727T074842Z
LAST-MODIFIED:20250727T074842Z
UID:5620-1761177600-1761263999@creditorcoalition.org
SUMMARY:Octus: London Credit Seminar (London)
DESCRIPTION:This year’s conference brings together leading voices to explore the latest developments in private credit\, the expanding role of CLOs\, trends shaping the primary markets\, and forward-looking perspectives on restructuring.
URL:https://creditorcoalition.org/event/octus-london-credit-seminar-london/
END:VEVENT
END:VCALENDAR