BEGIN:VCALENDAR
VERSION:2.0
PRODID:-//Creditor Rights Coalition - ECPv6.4.0.1//NONSGML v1.0//EN
CALSCALE:GREGORIAN
METHOD:PUBLISH
X-ORIGINAL-URL:https://creditorcoalition.org
X-WR-CALDESC:Events for Creditor Rights Coalition
REFRESH-INTERVAL;VALUE=DURATION:PT1H
X-Robots-Tag:noindex
X-PUBLISHED-TTL:PT1H
BEGIN:VTIMEZONE
TZID:America/New_York
BEGIN:DAYLIGHT
TZOFFSETFROM:-0500
TZOFFSETTO:-0400
TZNAME:EDT
DTSTART:20250309T070000
END:DAYLIGHT
BEGIN:STANDARD
TZOFFSETFROM:-0400
TZOFFSETTO:-0500
TZNAME:EST
DTSTART:20251102T060000
END:STANDARD
END:VTIMEZONE
BEGIN:VEVENT
DTSTART;TZID=America/New_York:20251009T100000
DTEND;TZID=America/New_York:20251009T100000
DTSTAMP:20260423T161358
CREATED:20251005T164820Z
LAST-MODIFIED:20251005T164820Z
UID:5685-1760004000-1760004000@creditorcoalition.org
SUMMARY:*New Event* Octus: Healthcare Webinar (London)
DESCRIPTION:Join Octus on Thursday\, October 9\, at 10 a.m. ET for a roundtable discussion about how investors and their advisors should position themselves as we enter 2026. We will cover recent developments across three different verticals – pharmaceuticals\, hospitals and services – with an eye towards the potential risks and rewards for each.
URL:https://creditorcoalition.org/event/new-event-octus-healthcare-webinar-london/
END:VEVENT
END:VCALENDAR