BEGIN:VCALENDAR
VERSION:2.0
PRODID:-//Creditor Rights Coalition - ECPv6.4.0.1//NONSGML v1.0//EN
CALSCALE:GREGORIAN
METHOD:PUBLISH
X-ORIGINAL-URL:https://creditorcoalition.org
X-WR-CALDESC:Events for Creditor Rights Coalition
REFRESH-INTERVAL;VALUE=DURATION:PT1H
X-Robots-Tag:noindex
X-PUBLISHED-TTL:PT1H
BEGIN:VTIMEZONE
TZID:America/New_York
BEGIN:DAYLIGHT
TZOFFSETFROM:-0500
TZOFFSETTO:-0400
TZNAME:EDT
DTSTART:20250309T070000
END:DAYLIGHT
BEGIN:STANDARD
TZOFFSETFROM:-0400
TZOFFSETTO:-0500
TZNAME:EST
DTSTART:20251102T060000
END:STANDARD
END:VTIMEZONE
BEGIN:VEVENT
DTSTART;TZID=America/New_York:20250723T100000
DTEND;TZID=America/New_York:20250723T100000
DTSTAMP:20260423T160025
CREATED:20250630T161851Z
LAST-MODIFIED:20250630T162743Z
UID:5594-1753264800-1753264800@creditorcoalition.org
SUMMARY:2025 Restructuring Discussion: Liability Management Exercises
DESCRIPTION:In the past 15 years\, the credit market has undergone profound changes—shaped by sponsor- and CLO-driven dynamics\, shifting credit agreements\, and a surge in liability management transactions. Join experts\, Dan Kamensky and Ian Feng\, for an in-depth session exploring the latest trends\, case studies\, and market responses in liability management exercises.
URL:https://creditorcoalition.org/event/2025-restructuring-discussion-liability-management-exercises/
END:VEVENT
END:VCALENDAR