BEGIN:VCALENDAR
VERSION:2.0
PRODID:-//Creditor Rights Coalition - ECPv6.4.0.1//NONSGML v1.0//EN
CALSCALE:GREGORIAN
METHOD:PUBLISH
X-ORIGINAL-URL:https://creditorcoalition.org
X-WR-CALDESC:Events for Creditor Rights Coalition
REFRESH-INTERVAL;VALUE=DURATION:PT1H
X-Robots-Tag:noindex
X-PUBLISHED-TTL:PT1H
BEGIN:VTIMEZONE
TZID:America/New_York
BEGIN:DAYLIGHT
TZOFFSETFROM:-0500
TZOFFSETTO:-0400
TZNAME:EDT
DTSTART:20250309T070000
END:DAYLIGHT
BEGIN:STANDARD
TZOFFSETFROM:-0400
TZOFFSETTO:-0500
TZNAME:EST
DTSTART:20251102T060000
END:STANDARD
END:VTIMEZONE
BEGIN:VEVENT
DTSTART;VALUE=DATE:20250514
DTEND;VALUE=DATE:20250516
DTSTAMP:20260423T124231
CREATED:20250420T072326Z
LAST-MODIFIED:20250420T072409Z
UID:5443-1747180800-1747353599@creditorcoalition.org
SUMMARY:ABI: Valcon
DESCRIPTION:ABI\, the Association of Insolvency & Restructuring Advisors (AIRA) and our distinguished advisory board invite you to attend VALCON 2025 at the Four Seasons Hotel Las Vegas in Las Vegas. Designed specifically for valuation professionals\, VALCON 2025 is THE place to connect with leaders in the distressed-debt\, restructuring and valuation industry. If you are a dealmaker\, fund investor\, or financial or legal advisor\, you’ll want to join us!
URL:https://creditorcoalition.org/event/abi-valcon/
END:VEVENT
BEGIN:VEVENT
DTSTART;VALUE=DATE:20250515
DTEND;VALUE=DATE:20250516
DTSTAMP:20260423T124231
CREATED:20250504T072408Z
LAST-MODIFIED:20250504T072408Z
UID:5480-1747267200-1747353599@creditorcoalition.org
SUMMARY:LSTA & LMA Loan Markets Conference
DESCRIPTION:Our content rich conference covers the BSL market\, private credit\, geopolitical trends\, sustainable lending\, and more. It is a terrific event where industry leaders share their insights and perspectives that you cannot hear anywhere else.
URL:https://creditorcoalition.org/event/lsta-lma-loan-markets-conference/
END:VEVENT
END:VCALENDAR