BEGIN:VCALENDAR
VERSION:2.0
PRODID:-//Creditor Rights Coalition - ECPv6.4.0.1//NONSGML v1.0//EN
CALSCALE:GREGORIAN
METHOD:PUBLISH
X-WR-CALNAME:Creditor Rights Coalition
X-ORIGINAL-URL:https://creditorcoalition.org
X-WR-CALDESC:Events for Creditor Rights Coalition
REFRESH-INTERVAL;VALUE=DURATION:PT1H
X-Robots-Tag:noindex
X-PUBLISHED-TTL:PT1H
BEGIN:VTIMEZONE
TZID:America/New_York
BEGIN:DAYLIGHT
TZOFFSETFROM:-0500
TZOFFSETTO:-0400
TZNAME:EDT
DTSTART:20240310T070000
END:DAYLIGHT
BEGIN:STANDARD
TZOFFSETFROM:-0400
TZOFFSETTO:-0500
TZNAME:EST
DTSTART:20241103T060000
END:STANDARD
END:VTIMEZONE
BEGIN:VEVENT
DTSTART;TZID=America/New_York:20240514T120000
DTEND;TZID=America/New_York:20240514T131500
DTSTAMP:20260423T155655
CREATED:20240513T021208Z
LAST-MODIFIED:20240513T021208Z
UID:4763-1715688000-1715692500@creditorcoalition.org
SUMMARY:TMA: Understanding Distressed Real Estate
DESCRIPTION:One of the lasting effects of the COVID pandemic is a deterioration of the commercial real estate market.  A confluence of issues have all led to the distress of commercial real estate.  These issues include higher vacancies\, increased remote work\, lower foot traffic in various cities\, general weakness in the retail environment (and a glut of retail mall space)\, lower income received by landlords\, higher interest rates\, and loans that are or will soon be maturing which may be difficult to refinance.  How will the commercial real estate market respond to these and other issues?  Our expert panel will discuss the legal and business issues at stake in the increasingly distressed real estate market.
URL:https://creditorcoalition.org/event/tma-understanding-distressed-real-estate/
END:VEVENT
END:VCALENDAR