BEGIN:VCALENDAR
VERSION:2.0
PRODID:-//Creditor Rights Coalition - ECPv6.4.0.1//NONSGML v1.0//EN
CALSCALE:GREGORIAN
METHOD:PUBLISH
X-ORIGINAL-URL:https://creditorcoalition.org
X-WR-CALDESC:Events for Creditor Rights Coalition
REFRESH-INTERVAL;VALUE=DURATION:PT1H
X-Robots-Tag:noindex
X-PUBLISHED-TTL:PT1H
BEGIN:VTIMEZONE
TZID:America/New_York
BEGIN:DAYLIGHT
TZOFFSETFROM:-0500
TZOFFSETTO:-0400
TZNAME:EDT
DTSTART:20240310T070000
END:DAYLIGHT
BEGIN:STANDARD
TZOFFSETFROM:-0400
TZOFFSETTO:-0500
TZNAME:EST
DTSTART:20241103T060000
END:STANDARD
END:VTIMEZONE
BEGIN:VEVENT
DTSTART;VALUE=DATE:20240509
DTEND;VALUE=DATE:20240510
DTSTAMP:20260423T160052
CREATED:20240414T015711Z
LAST-MODIFIED:20240414T015711Z
UID:4690-1715212800-1715299199@creditorcoalition.org
SUMMARY:ABI: New York City Bankruptcy Conference
DESCRIPTION:The ABI New York City Bankruptcy Conference\, one of ABI’s largest and most prestigious events — and one of the most significant gatherings of insolvency and restructuring professionals in the New York metro area — is the place to hear from the best and learn practical techniques and tips for meeting the challenges of today’s evolving insolvency landscape.
URL:https://creditorcoalition.org/event/abi-new-york-city-bankruptcy-conference-2/
END:VEVENT
BEGIN:VEVENT
DTSTART;VALUE=DATE:20240509
DTEND;VALUE=DATE:20240511
DTSTAMP:20260423T160052
CREATED:20240421T054350Z
LAST-MODIFIED:20240421T054350Z
UID:4730-1715212800-1715385599@creditorcoalition.org
SUMMARY:Trepp: CRE Symposium
DESCRIPTION:Join Trepp for an interactive\, exclusive event for valued commercial real estate clients and influencers. You’re invited to meet the Trepp team and our 100+ attendees for a happy hour networking reception on May 9th. Then\, attend a half-day symposium event where experts from across the industry will discuss the latest trends in CRE finance.
URL:https://creditorcoalition.org/event/trepp-cre-symposium/
END:VEVENT
BEGIN:VEVENT
DTSTART;VALUE=DATE:20240509
DTEND;VALUE=DATE:20240511
DTSTAMP:20260423T160052
CREATED:20240421T054632Z
LAST-MODIFIED:20240421T054632Z
UID:4732-1715212800-1715385599@creditorcoalition.org
SUMMARY:LSTA: Direct Lending & Middle Market Conference (FL)
DESCRIPTION:Over 760 industry participants attended in 2023\, including 240+ Credit Fund/Non-Bank Lenders And 120+ Investors. This third annual conference\, hosted in partnership with the LSTA\, will continue to provide the latest and most relevant content for direct lending funds\, BDCs\, and their bank funding partners including capital fundraising strategies\, pathways and major regulatory developments. Allocators will have the opportunity to network with funds\, hear the outlook for credit performance\, and identify investment opportunities.
URL:https://creditorcoalition.org/event/lsta-direct-lending-middle-market-conference-fl/
END:VEVENT
END:VCALENDAR